


BEGIN:VCALENDAR
VERSION:2.0
PRODID:-//wp-events-plugin.com//7.2.3.1//EN
BEGIN:VEVENT
UID:534@riseprofessionals.com
DTSTART;TZID=America/New_York:20240620T123000
DTEND;TZID=America/New_York:20240620T160000
DTSTAMP:20240502T153925Z
URL:https://riseprofessionals.com/events/2024-leadership-summit-awards-gal
 a-social-events/
SUMMARY:2024 Leadership Summit & Awards Gala - Social Events
DESCRIPTION:
END:VEVENT
BEGIN:VTIMEZONE
TZID:America/New_York
X-LIC-LOCATION:America/New_York
BEGIN:DAYLIGHT
DTSTART:20240310T030000
TZOFFSETFROM:-0500
TZOFFSETTO:-0400
TZNAME:EDT
END:DAYLIGHT
END:VTIMEZONE
END:VCALENDAR