


BEGIN:VCALENDAR
VERSION:2.0
PRODID:-//wp-events-plugin.com//7.2.3.1//EN
BEGIN:VEVENT
UID:569@riseprofessionals.com
DTSTART;TZID=America/New_York:20241024T140000
DTEND;TZID=America/New_York:20241024T150000
DTSTAMP:20241016T220808Z
URL:https://riseprofessionals.com/events/can-taylor-swift-stop-nuclear-ver
 dicts-we-think-its-time-to-teach-some-lessons/
SUMMARY:Can Taylor Swift Stop Nuclear Verdicts?® We Think It's Time to Tea
 ch Some Lessons
DESCRIPTION:What can we learn from Taylor Swift when it comes to stopping N
 uclear Verdicts®? Swifties and non-Swifties alike will want to jump in fo
 r an interactive webinar packed with more strategy and Style than you coul
 d imagine in your Wildest Dreams. Join trial and Nuclear Verdict® experts
  Cayce Lynch and Ashley Fetyko\, as well as Gracemarie Mende for a deep di
 ve into pain and suffering\, a topic plaintiffs’ counsel know All Too We
 ll\, but that defense has yet to Mastermind. Attendees will come away with
  concrete tools to defuse Nuclear Verdicts®\, including how to use psycho
 logy to prevent jurors from seeing Red when they fill out the Blank Space 
 on the verdict form! Plaintiffs and their counsel know Everything Has Chan
 ged\, and it is time for the defense to adapt! So\, Just Say Yes\, and joi
 n us in taking back justice for all!\n\n&nbsp\;\n\nREGISTER NOW: https://u
 s06web.zoom.us/webinar/register/WN_zZ0SpL5mQZKq6Wysq3Prlw
ATTACH;FMTTYPE=image/jpeg:https://cdn.riseprofessionals.com/wp-content/upl
 oads/2024/10/16215443/WEBINARS-Instagram-Post-2.png
CATEGORIES:Virtual,Webinar
END:VEVENT
BEGIN:VTIMEZONE
TZID:America/New_York
X-LIC-LOCATION:America/New_York
BEGIN:DAYLIGHT
DTSTART:20240310T030000
TZOFFSETFROM:-0500
TZOFFSETTO:-0400
TZNAME:EDT
END:DAYLIGHT
END:VTIMEZONE
END:VCALENDAR