BEGIN:VCALENDAR
VERSION:2.0
PRODID:-//wp-events-plugin.com//7.2.3.1//EN
BEGIN:VEVENT
UID:539@riseprofessionals.com
DTSTART;TZID=America/New_York:20240605T000000
DTEND;TZID=America/New_York:20240606T000000
DTSTAMP:20240417T140444Z
URL:https://riseprofessionals.com/events/insurtech-insights-usa/
SUMMARY:Insurtech Insights USA
DESCRIPTION:RISE members save $250 on registration with discount code RISE
 30\n\nJoin more than 3\,000 of the world’s leading executives\, entrepre
 neurs and investors for the fastest-growing insurtech conference in the US
  on June 5-6th in NYC.\n\n\n\n\nINSIGHTS\n\n\n\n\n\n 	Improve your knowled
 ge on challenging and strategic issues relevant to any organization\n 	Sta
 y on top of future trends and seize new opportunities\n 	Expand your toolb
 ox and effectively solve the challenges of today and tomorrow\n\n\n\n\n\n\
 n\n\n\nINSPIRATION\n\n\n\n\n\n 	Challenge your way of thinking with new pe
 rspectives\n 	Expand your professional horizon by meeting with and listeni
 ng to leading insurance experts\n 	Equip yourself with ideas and knowledge
  that adds value to you\, your team\, and your organization\n\n\n\n\n\n\n\
 n\n\nNETWORKING\n\n\n\n\n\n 	Expand your network by meeting with 5\,000+ o
 f the world's most inspirational industry leaders\n 	Create new opportunit
 ies leading to a stronger and more global network\n 	Meet with and attract
  talents of tomorrow\n\nRegister now: https://www.insurtechinsights.com/am
 erica/\n\n\n\n\n
ATTACH;FMTTYPE=image/jpeg:https://cdn.riseprofessionals.com/wp-content/upl
 oads/2024/02/06142516/Insurtech-Insights-2024.png
CATEGORIES:Conference,In-Person,Partner Event
LOCATION:Javits Center\, 429 11th Ave\, New York\, NY\, 10001\, United Stat
 es
GEO:40.757551;-74.002469
X-APPLE-STRUCTURED-LOCATION;VALUE=URI;X-ADDRESS=429 11th Ave\, New York\, N
 Y\, 10001\, United States;X-APPLE-RADIUS=100;X-TITLE=Javits Center:geo:40.
 757551,-74.002469
END:VEVENT
BEGIN:VTIMEZONE
TZID:America/New_York
X-LIC-LOCATION:America/New_York
BEGIN:DAYLIGHT
DTSTART:20240310T030000
TZOFFSETFROM:-0500
TZOFFSETTO:-0400
TZNAME:EDT
END:DAYLIGHT
END:VTIMEZONE
END:VCALENDAR