


BEGIN:VCALENDAR
VERSION:2.0
PRODID:-//wp-events-plugin.com//7.2.3.1//EN
BEGIN:VEVENT
UID:570@riseprofessionals.com
DTSTART;TZID=America/New_York:20241119T153000
DTEND;TZID=America/New_York:20241119T170000
DTSTAMP:20241112T204857Z
URL:https://riseprofessionals.com/events/nyc-pop-up-w2w/
SUMMARY:New York City Pop-Up at Business Insurance Women to Watch
DESCRIPTION:RISE is excited to host a special pop-up event following Busine
 ss Insurance's Women to Watch conference on November 19 3:30-5:00pm!\n\n\n
 \nJoin Us for the RISE NYC Pop-Up directly following Women to Watch\, wher
 e connecting with industry professionals is more than just handshakes and 
 business cards! Enjoy drinks and networking in a vibrant atmosphere alongs
 ide fellow conference attendees\, while participating in our interactive s
 cavenger hunt designed to spark conversations\, build connections\, and un
 cover common ground. Whether it’s reconnecting with a LinkedIn connectio
 n in real life\, meeting new faces in the industry\, or connecting with fe
 llow RISE members\, this session promises fun and meaningful interactions.
  Step outside your usual circle and walk away with new contacts\, ideas\, 
 and opportunities—plus some cool RISE swag!\n\nRISE Members save $100 on
  full conference registration by using discount code W2W-R!SE-24 or follo
 wing this link!\nSPONSORED BY\n\n\n\n
ATTACH;FMTTYPE=image/jpeg:https://cdn.riseprofessionals.com/wp-content/upl
 oads/2024/10/08180647/NYC-7.png
CATEGORIES:In-Person,Local Pop-Up
LOCATION:Marriott Marquis Times Square\, 1535 Broadway\, New York\, NY\, 10
 036\, United States
X-APPLE-STRUCTURED-LOCATION;VALUE=URI;X-ADDRESS=1535 Broadway\, New York\, 
 NY\, 10036\, United States;X-APPLE-RADIUS=100;X-TITLE=Marriott Marquis Tim
 es Square:geo:0,0
END:VEVENT
BEGIN:VTIMEZONE
TZID:America/New_York
X-LIC-LOCATION:America/New_York
BEGIN:STANDARD
DTSTART:20241103T010000
TZOFFSETFROM:-0400
TZOFFSETTO:-0500
TZNAME:EST
END:STANDARD
END:VTIMEZONE
END:VCALENDAR