


BEGIN:VCALENDAR
VERSION:2.0
PRODID:-//wp-events-plugin.com//7.2.3.1//EN
BEGIN:VEVENT
UID:537@riseprofessionals.com
DTSTART;TZID=America/New_York:20240317T000000
DTEND;TZID=America/New_York:20240320T000000
DTSTAMP:20240226T213232Z
URL:https://riseprofessionals.com/events/plrb-claims-conference/
SUMMARY:PLRB Claims Conference
DESCRIPTION:Please join us in Boston for 3 days of sharing how you serve an
 d adapt as an insurance professional in today’s rapidly evolving world:\
 n\n 	Engage in over 100 innovative educational course selections across 14
  learning tracks led by industry professionals serving your quest for know
 -how in the ever-evolving insurance landscape\n 	Forge connections through
  one of the industry’s largest gatherings of diverse insurance professio
 nals serving as a conduit for networking opportunities\n 	Immerse yourself
  in the Insurance Services Expo interacting with hundreds of leading edge 
 service providers showcasing products and tools to revolutionize service i
 n the insurance industry\n\nRegister here
ATTACH;FMTTYPE=image/jpeg:https://cdn.riseprofessionals.com/wp-content/upl
 oads/2024/02/02142523/cc24BannerNewLogo.jpg
CATEGORIES:Conference,In-Person,Partner Event
LOCATION:Hynes Convention Center\, 900 Boylston Street\, Boston\, MA\, 0211
 5\, United States
GEO:42.347607;-71.0852
X-APPLE-STRUCTURED-LOCATION;VALUE=URI;X-ADDRESS=900 Boylston Street\, Bosto
 n\, MA\, 02115\, United States;X-APPLE-RADIUS=100;X-TITLE=Hynes Convention
  Center:geo:42.347607,-71.0852
END:VEVENT
BEGIN:VTIMEZONE
TZID:America/New_York
X-LIC-LOCATION:America/New_York
BEGIN:DAYLIGHT
DTSTART:20240310T030000
TZOFFSETFROM:-0500
TZOFFSETTO:-0400
TZNAME:EDT
END:DAYLIGHT
END:VTIMEZONE
END:VCALENDAR