


BEGIN:VCALENDAR
VERSION:2.0
PRODID:-//wp-events-plugin.com//7.2.3.1//EN
BEGIN:VEVENT
UID:535@riseprofessionals.com
DTSTART;TZID=America/New_York:20240229T171500
DTEND;TZID=America/New_York:20240229T191500
DTSTAMP:20240215T142207Z
URL:https://riseprofessionals.com/events/rise-south-florida-gis-chapter-ha
 ppy-hour/
SUMMARY:RISE & South Florida GIS Chapter Happy Hour
DESCRIPTION:\n\n&nbsp\;\n\n&nbsp\;
ATTACH;FMTTYPE=image/jpeg:https://cdn.riseprofessionals.com/wp-content/upl
 oads/2024/02/15142117/GIS-Flyer.png
LOCATION:The Whole Enchilada\, 8000 W Broward Blvd\, Plantation\, FL\, 3338
 8\, United States
GEO:26.117889;-80.254783
X-APPLE-STRUCTURED-LOCATION;VALUE=URI;X-ADDRESS=8000 W Broward Blvd\, Plant
 ation\, FL\, 33388\, United States;X-APPLE-RADIUS=100;X-TITLE=The Whole En
 chilada:geo:26.117889,-80.254783
END:VEVENT
BEGIN:VTIMEZONE
TZID:America/New_York
X-LIC-LOCATION:America/New_York
BEGIN:STANDARD
DTSTART:20231105T010000
TZOFFSETFROM:-0400
TZOFFSETTO:-0500
TZNAME:EST
END:STANDARD
END:VTIMEZONE
END:VCALENDAR