


BEGIN:VCALENDAR
VERSION:2.0
PRODID:-//wp-events-plugin.com//7.2.3.1//EN
BEGIN:VEVENT
UID:533@riseprofessionals.com
DTSTART;TZID=America/New_York:20240328T170000
DTEND;TZID=America/New_York:20240328T200000
DTSTAMP:20240327T223937Z
URL:https://riseprofessionals.com/events/road-to-the-rise-awards-atlanta-g
 a-pop-up/
SUMMARY:Road to the RISE Awards: Atlanta\, GA Pop-Up
DESCRIPTION:🎳 Get ready to roll\, Atlanta! Our RISE road trip is bringin
 g the excitement to The Painted Pin on Thursday\, March 28\, from 5:00 PM 
 to 8:00 PM. Join us for a striking evening of bowling\, games\, and fantas
 tic food and drinks—all in the heart of Atlanta!\n\n📅 Date: Thursday\
 , March 28\n\n⏰ Time: 5:00 PM – 8:00 PM\n\n📍 Venue: The Painted Pin
  | 737 Miami Circle NE\, Atlanta\, GA 30324\n\n🎟️ Tickets: $25 - pre
 -registration required\n\nWhat to expect?\n\n 	Premier networking with the
  best and brightest in the industry\,\n 	Connecting with the brightest min
 ds from our DEI\, innovation education and engagement committees\, strateg
 ic planning board\, advisory board\n 	Fun and unique entertainment\, food 
 &amp\; drink. and photo ops\n\nWho should attend?\n\nEarly career professi
 onals who work for insurance companies (carriers\, brokers\, MGA\, etc) in
  all areas (underwriting\, product\, claims\, technology\, actuarial\, etc
 )\; students interested in insurance\; and RISE members who are part of ou
 r committees\, mentorship program\, and boards.\n\n/*! elementor - v3.18.0
  - 20-12-2023 */.elementor-widget-image{text-align:center}.elementor-widge
 t-image a{display:inline-block}.elementor-widget-image a img[src$=".svg"]{
 width:48px}.elementor-widget-image img{vertical-align:middle\;display:inli
 ne-block}\n\n\n\nSecure your spot now for an evening of strikes\, spares\,
  and unforgettable connections. Let's make Atlanta a standout on our Road 
 to the RISE Awards!\n\n\n\n\n
ATTACH;FMTTYPE=image/jpeg:https://cdn.riseprofessionals.com/wp-content/upl
 oads/2024/01/21171256/Pop-Ups-20.png
CATEGORIES:In-Person,Local Pop-Up
END:VEVENT
BEGIN:VTIMEZONE
TZID:America/New_York
X-LIC-LOCATION:America/New_York
BEGIN:DAYLIGHT
DTSTART:20240310T030000
TZOFFSETFROM:-0500
TZOFFSETTO:-0400
TZNAME:EDT
END:DAYLIGHT
END:VTIMEZONE
END:VCALENDAR