


BEGIN:VCALENDAR
VERSION:2.0
PRODID:-//wp-events-plugin.com//7.2.3.1//EN
BEGIN:VEVENT
UID:536@riseprofessionals.com
DTSTART;TZID=America/New_York:20240312T130000
DTEND;TZID=America/New_York:20240312T140000
DTSTAMP:20240226T161916Z
URL:https://riseprofessionals.com/events/webinar-climbing-the-claims-ladde
 r/
SUMMARY:Webinar: Climbing the Claims Ladder
DESCRIPTION:Join our panel of senior executives as they discuss building a 
 successful claims career. Highlights include areas of focus and opportunit
 ies at all career stages to position yourself for the next promotion! Thes
 e experts will provide insights on how the definition of success and profe
 ssional priorities shift as you progress from individual contributor to ma
 nager\, to managing managers\, and into senior level positions. This webin
 ar will be beneficial for anyone looking to advance their claims career an
 d learn from established professionals who have built stellar careers.\n\n
 Speakers:\nCord Farris\, Managing Director of Claims at Accident Fund\nRob
  Baker\, SVP &amp\; Chief Claims Officer at Encova Mutual Insurance Group\
 nStephen Mraz\, Head of Claims Operations at Utica National Insurance Grou
 p\nModerator: Scott Francis\, Ethos Risk\n\nSponsored by Ethos Risk\n\n
ATTACH;FMTTYPE=image/jpeg:https://cdn.riseprofessionals.com/wp-content/upl
 oads/2024/02/26161518/White-and-yellow-Minimalist-Inspirational-Quotes-Ins
 tagram-Post.png
CATEGORIES:Virtual,Webinar
LOCATION:https://us06web.zoom.us/webinar/register/WN_TAySOLOJTi-NGjSrv50IfQ
END:VEVENT
BEGIN:VTIMEZONE
TZID:America/New_York
X-LIC-LOCATION:America/New_York
BEGIN:DAYLIGHT
DTSTART:20240310T030000
TZOFFSETFROM:-0500
TZOFFSETTO:-0400
TZNAME:EDT
END:DAYLIGHT
END:VTIMEZONE
END:VCALENDAR